BEGIN:VCALENDAR
VERSION:2.0
PRODID:-//Miracle Deliverance Temple COGIC - ECPv6.15.20//NONSGML v1.0//EN
CALSCALE:GREGORIAN
METHOD:PUBLISH
X-WR-CALNAME:Miracle Deliverance Temple COGIC
X-ORIGINAL-URL:https://mdtcogic.com
X-WR-CALDESC:Events for Miracle Deliverance Temple COGIC
REFRESH-INTERVAL;VALUE=DURATION:PT1H
X-Robots-Tag:noindex
X-PUBLISHED-TTL:PT1H
BEGIN:VTIMEZONE
TZID:UTC
BEGIN:STANDARD
TZOFFSETFROM:+0000
TZOFFSETTO:+0000
TZNAME:UTC
DTSTART:20250101T000000
END:STANDARD
END:VTIMEZONE
BEGIN:VEVENT
DTSTART;TZID=UTC:20260508T183000
DTEND;TZID=UTC:20260508T210000
DTSTAMP:20260423T125210
CREATED:20260130T231611Z
LAST-MODIFIED:20260130T231614Z
UID:1939-1778265000-1778274000@mdtcogic.com
SUMMARY:51st Annual Beatitudes Buffet Dinner
DESCRIPTION:Theme: Blessed To Tell God Yes – Matthew 5:3-12
URL:https://mdtcogic.com/events/51st-annual-beatitudes-buffet-dinner/
LOCATION:Faith Chapel\, 9400 Campo Road\, Spring Valley\, California\, 91977\, United States
ORGANIZER;CN="Mother Shirley Wilson":MAILTO:mimipowr3@gmail.com
END:VEVENT
BEGIN:VEVENT
DTSTART;TZID=UTC:20260611T000000
DTEND;TZID=UTC:20260614T235959
DTSTAMP:20260423T125210
CREATED:20260130T212445Z
LAST-MODIFIED:20260130T212448Z
UID:1937-1781136000-1781481599@mdtcogic.com
SUMMARY:Annual Children & Family Conference
DESCRIPTION:Theme: Our Big God! – Psalms 147:2-5
URL:https://mdtcogic.com/events/annual-children-family-conference/
LOCATION:MDT Church\, 7840 Mission Center Ct. Ste 104\, San Diego\, CA 92108\, San Diego\, California\, 92108\, United States
ORGANIZER;CN="Evangelist Ruth Wilson":MAILTO:ruthcares@aol.com
END:VEVENT
BEGIN:VEVENT
DTSTART;TZID=UTC:20260625T000000
DTEND;TZID=UTC:20260628T235959
DTSTAMP:20260423T125210
CREATED:20260130T182914Z
LAST-MODIFIED:20260130T182916Z
UID:1924-1782345600-1782691199@mdtcogic.com
SUMMARY:Annual Youth Conference
DESCRIPTION:Theme: Youth Wholeheartedly Chasing God – Psalms 42:1-2
URL:https://mdtcogic.com/events/annual-youth-conference/
LOCATION:MDT Church\, 7840 Mission Center Ct. Ste 104\, San Diego\, CA 92108\, San Diego\, California\, 92108\, United States
ORGANIZER;CN="Missionary Rachel Magruder":MAILTO:rachelcares@aol.com
END:VEVENT
BEGIN:VEVENT
DTSTART;TZID=UTC:20261204T183000
DTEND;TZID=UTC:20261204T210000
DTSTAMP:20260423T125210
CREATED:20260130T211239Z
LAST-MODIFIED:20260131T000840Z
UID:1933-1796409000-1796418000@mdtcogic.com
SUMMARY:Happy Birthday Jesus Celebration
DESCRIPTION:
URL:https://mdtcogic.com/events/happy-birthday-jesus-celebration/
LOCATION:Faith Chapel\, 9400 Campo Road\, Spring Valley\, California\, 91977\, United States
END:VEVENT
END:VCALENDAR